BEGIN:VCALENDAR
VERSION:2.0
PRODID:-//ALVIA Global - ECPv6.15.11//NONSGML v1.0//EN
CALSCALE:GREGORIAN
METHOD:PUBLISH
X-WR-CALNAME:ALVIA Global
X-ORIGINAL-URL:https://alviaglobal.com
X-WR-CALDESC:Events for ALVIA Global
REFRESH-INTERVAL;VALUE=DURATION:PT1H
X-Robots-Tag:noindex
X-PUBLISHED-TTL:PT1H
BEGIN:VTIMEZONE
TZID:Europe/London
BEGIN:DAYLIGHT
TZOFFSETFROM:+0000
TZOFFSETTO:+0100
TZNAME:BST
DTSTART:20240331T010000
END:DAYLIGHT
BEGIN:STANDARD
TZOFFSETFROM:+0100
TZOFFSETTO:+0000
TZNAME:GMT
DTSTART:20241027T010000
END:STANDARD
BEGIN:DAYLIGHT
TZOFFSETFROM:+0000
TZOFFSETTO:+0100
TZNAME:BST
DTSTART:20250330T010000
END:DAYLIGHT
BEGIN:STANDARD
TZOFFSETFROM:+0100
TZOFFSETTO:+0000
TZNAME:GMT
DTSTART:20251026T010000
END:STANDARD
BEGIN:DAYLIGHT
TZOFFSETFROM:+0000
TZOFFSETTO:+0100
TZNAME:BST
DTSTART:20260329T010000
END:DAYLIGHT
BEGIN:STANDARD
TZOFFSETFROM:+0100
TZOFFSETTO:+0000
TZNAME:GMT
DTSTART:20261025T010000
END:STANDARD
END:VTIMEZONE
BEGIN:VEVENT
DTSTART;TZID=Europe/London:20251126T113000
DTEND;TZID=Europe/London:20251126T130000
DTSTAMP:20260421T190908
CREATED:20251027T160925Z
LAST-MODIFIED:20251027T161135Z
UID:287-1764156600-1764162000@alviaglobal.com
SUMMARY:ALVIA Connect
DESCRIPTION:Online Event: ALVIA Connect\nCurious to see what ALVIA Global feels like in action? Join our next Open Business Meeting — a dynamic\, values-driven session where entrepreneurs and professionals brainstorm real challenges\, exchange bold ideas\, and connect meaningfully. No pitching\, no posturing — just open minds\, shared experiences\, and powerful insights. \nFill out the form to request your spot and experience the difference. \n Why You Should Join Us\n Network with PurposeMeet ambitious professionals from a wide range of industries—locally and internationally. \n Brainstorm Real Business ChallengesEngage in insightful discussions around current trends\, practical challenges\, and innovative solutions. \n Gain Fresh PerspectivesLearn from the shared experiences\, strategies\, and success stories of others. \n Boost Your KnowledgeDiscover tips\, tools\, and tactics that you can immediately apply in your business or leadership role. \n Fuel Your InspirationWalk away with new ideas\, fresh energy\, and meaningful connections that make a real impact. \n Enjoy a One-of-a-Kind ExperienceEvery session is unique\, shaped by the people in the (virtual) room and the energy they bring. \n Spaces Are LimitedWe keep the group size small to ensure high-quality interaction and real value.Reserve your spot now to avoid missing out! \nFill Up the FORM \n\nLoading…
URL:https://alviaglobal.com/event/alvia-connect/
LOCATION:Online
END:VEVENT
BEGIN:VEVENT
DTSTART;TZID=Europe/London:20251112T113000
DTEND;TZID=Europe/London:20251112T130000
DTSTAMP:20260421T190908
CREATED:20251027T160442Z
LAST-MODIFIED:20251030T121604Z
UID:285-1762947000-1762952400@alviaglobal.com
SUMMARY:ALVIA Connect
DESCRIPTION:Business Beyond Borders: The Expat Mindset\nWe live between worlds — between where we come from and where we’ve chosen to build our future.Some call us expats\, others immigrants — but what truly defines us is the courage to start again\, to create opportunities\, and to turn challenges into growth. \nFill out the form below to request your spot and experience the difference. \n Why You Should Join Us\n Network with PurposeHow to build meaningful connections and opportunities away from home. \n Brainstorm Real Business ChallengesEngage in insightful discussions around current trends\, practical challenges\, and innovative solutions. \n The real challenges of business life abroad and how to overcome them.Learn from the shared experiences\, strategies\, and success stories of others. \n Boost Your KnowledgeWhat leadership\, integrity\, and community mean when you’re far from your roots. \n Fuel Your InspirationWalk away with new ideas\, fresh energy\, and meaningful connections that make a real impact. \n Enjoy a One-of-a-Kind ExperienceEvery session is unique\, shaped by the people in the (virtual) room and the energy they bring. \n Spaces Are LimitedWe keep the group size small to ensure high-quality interaction and real value.Reserve your spot now to avoid missing out! \nFill Up the FORM \nLoading…
URL:https://alviaglobal.com/event/alvia-connect-12-nov/
LOCATION:Online
END:VEVENT
END:VCALENDAR